BEGIN:VCALENDAR
VERSION:2.0
PRODID:-//BohemianBabeWellness.com - ECPv6.15.14//NONSGML v1.0//EN
CALSCALE:GREGORIAN
METHOD:PUBLISH
X-WR-CALNAME:BohemianBabeWellness.com
X-ORIGINAL-URL:https://bohemianbabewellness.com
X-WR-CALDESC:Events for BohemianBabeWellness.com
REFRESH-INTERVAL;VALUE=DURATION:PT1H
X-Robots-Tag:noindex
X-PUBLISHED-TTL:PT1H
BEGIN:VTIMEZONE
TZID:America/Chicago
BEGIN:DAYLIGHT
TZOFFSETFROM:-0600
TZOFFSETTO:-0500
TZNAME:CDT
DTSTART:20220313T080000
END:DAYLIGHT
BEGIN:STANDARD
TZOFFSETFROM:-0500
TZOFFSETTO:-0600
TZNAME:CST
DTSTART:20221106T070000
END:STANDARD
BEGIN:DAYLIGHT
TZOFFSETFROM:-0600
TZOFFSETTO:-0500
TZNAME:CDT
DTSTART:20230312T080000
END:DAYLIGHT
BEGIN:STANDARD
TZOFFSETFROM:-0500
TZOFFSETTO:-0600
TZNAME:CST
DTSTART:20231105T070000
END:STANDARD
BEGIN:DAYLIGHT
TZOFFSETFROM:-0600
TZOFFSETTO:-0500
TZNAME:CDT
DTSTART:20240310T080000
END:DAYLIGHT
BEGIN:STANDARD
TZOFFSETFROM:-0500
TZOFFSETTO:-0600
TZNAME:CST
DTSTART:20241103T070000
END:STANDARD
END:VTIMEZONE
BEGIN:VEVENT
DTSTART;VALUE=DATE:20230623
DTEND;VALUE=DATE:20230626
DTSTAMP:20260424T140834
CREATED:20230606T225741Z
LAST-MODIFIED:20230606T233626Z
UID:757-1687478400-1687737599@bohemianbabewellness.com
SUMMARY:Integrative Sound Healing Training (June 23 -25)
DESCRIPTION:Join Christina Grozik for a full immersive experience in learning how to use sound as a tool for wellness.\n\n\nThis training will guide participants in using sound as a modality to work with others and/or for self-care. A Certificate of Completion will be awarded upon successful completion of the course.\n\n 
URL:https://bohemianbabewellness.com/event/integrative-sound-healing-training-6-23-6-25/
LOCATION:Delta Groove Yoga\, 2091 Madison Avenue\, Memphis\, TN\, 38104\, United States
ATTACH;FMTTYPE=image/jpeg:https://bohemianbabewellness.com/wp-content/uploads/2023/06/A887ECCB-67B1-40DC-8345-7C17B667BA16_1_105_c.jpeg
END:VEVENT
END:VCALENDAR